BEGIN:VCALENDAR
VERSION:2.0
PRODID:-//wp-events-plugin.com//7.2.3.1//EN
TZID:Europe/Brussels
X-WR-TIMEZONE:Europe/Brussels
BEGIN:VEVENT
UID:206@questionnement.be
DTSTART;TZID=Europe/Paris:20200314T090000
DTEND;TZID=Europe/Paris:20200314T113000
DTSTAMP:20251123T111059Z
URL:https://questionnement.be/events/annulation-luiz-izcovitch-autour-de-s
 on-livre-les-marques-dune-psychanalyse-debat-avec-les-cartels/
SUMMARY:ANNULATION : Luiz Izcovitch : autour de son  livre "les marques d'u
 ne psychanalyse" Débat avec les cartels
DESCRIPTION:
END:VEVENT
BEGIN:VTIMEZONE
TZID:Europe/Paris
X-LIC-LOCATION:Europe/Paris
BEGIN:STANDARD
DTSTART:20191027T020000
TZOFFSETFROM:+0200
TZOFFSETTO:+0100
TZNAME:CET
END:STANDARD
END:VTIMEZONE
END:VCALENDAR