BEGIN:VCALENDAR
VERSION:2.0
PRODID:-//wp-events-plugin.com//7.2.3.1//EN
TZID:Europe/Brussels
X-WR-TIMEZONE:Europe/Brussels
BEGIN:VEVENT
UID:196@questionnement.be
DTSTART;TZID=Europe/Paris:20200314T130000
DTEND;TZID=Europe/Paris:20200314T160000
DTSTAMP:20251123T111059Z
URL:https://questionnement.be/events/annulation-luiz-izcovitch-conference-
 autour-de-son-livre-lidentite-choix-ou-destin/
SUMMARY:ANNULATION  : Luiz Izcovitch. Conférence autour de son livre "L'id
 entité\, choix ou destin ?"
DESCRIPTION:
END:VEVENT
BEGIN:VTIMEZONE
TZID:Europe/Paris
X-LIC-LOCATION:Europe/Paris
BEGIN:STANDARD
DTSTART:20191027T020000
TZOFFSETFROM:+0200
TZOFFSETTO:+0100
TZNAME:CET
END:STANDARD
END:VTIMEZONE
END:VCALENDAR