BEGIN:VCALENDAR
VERSION:2.0
PRODID:-//wp-events-plugin.com//7.2.3.1//EN
TZID:Europe/Brussels
X-WR-TIMEZONE:Europe/Brussels
BEGIN:VEVENT
UID:246@questionnement.be
DTSTART;TZID=Europe/Paris:20240116T193000
DTEND;TZID=Europe/Paris:20240116T213000
DTSTAMP:20251123T111100Z
URL:https://questionnement.be/events/atelier-de-lecture-2023-2024-2/
SUMMARY:Atelier de lecture 2023-2024
DESCRIPTION:Nous organiserons le travail de l'année autour de la lecture d
 u séminaire de Colette Soler "Des hommes des femmes" (2018)\, éd. Nouvel
 les\, Forum du champ freudien.
END:VEVENT
BEGIN:VTIMEZONE
TZID:Europe/Paris
X-LIC-LOCATION:Europe/Paris
BEGIN:STANDARD
DTSTART:20231029T020000
TZOFFSETFROM:+0200
TZOFFSETTO:+0100
TZNAME:CET
END:STANDARD
END:VTIMEZONE
END:VCALENDAR