BEGIN:VCALENDAR
VERSION:2.0
PRODID:-//wp-events-plugin.com//7.2.3.1//EN
TZID:Europe/Brussels
X-WR-TIMEZONE:Europe/Brussels
BEGIN:VEVENT
UID:245@questionnement.be
DTSTART;TZID=Europe/Paris:20231003T183000
DTEND;TZID=Europe/Paris:20231003T203000
DTSTAMP:20251123T111100Z
URL:https://questionnement.be/events/atelier-de-lecture-2023-2024/
SUMMARY:Atelier de lecture 2023-2024
DESCRIPTION:Nous organiserons le travail de l'année autour de la lecture d
 u séminaire de Colette Soler "Des hommes des femmes" (2018)\, éd. Nouvel
 les\, Forum du champ freudien.
END:VEVENT
BEGIN:VTIMEZONE
TZID:Europe/Paris
X-LIC-LOCATION:Europe/Paris
BEGIN:DAYLIGHT
DTSTART:20230326T030000
TZOFFSETFROM:+0100
TZOFFSETTO:+0200
TZNAME:CEST
END:DAYLIGHT
END:VTIMEZONE
END:VCALENDAR