BEGIN:VCALENDAR
VERSION:2.0
PRODID:-//wp-events-plugin.com//7.2.3.1//EN
TZID:Europe/Brussels
X-WR-TIMEZONE:Europe/Brussels
BEGIN:VEVENT
UID:239@questionnement.be
DTSTART;TZID=Europe/Paris:20221004T183000
DTEND;TZID=Europe/Paris:20221004T200000
DTSTAMP:20251123T111059Z
URL:https://questionnement.be/events/atelier-de-lecture-la-difference-du-s
 exe/
SUMMARY:Atelier de lecture - La différence du sexe
DESCRIPTION:Atelier de lecture - La différence du sexe\nNous proposons de 
 poursuivre cette année notre travail sur la question de la sexualité\, c
 ommencé avec « Sexualités en travaux »\, puis « Le sexe des Modernes 
 » avec aujourd'hui « La différence du sexe » de David Bernard\, livre 
 paru aux Éditions Nouvelles du champ lacanien.
END:VEVENT
BEGIN:VTIMEZONE
TZID:Europe/Paris
X-LIC-LOCATION:Europe/Paris
BEGIN:DAYLIGHT
DTSTART:20220327T030000
TZOFFSETFROM:+0100
TZOFFSETTO:+0200
TZNAME:CEST
END:DAYLIGHT
END:VTIMEZONE
END:VCALENDAR