BEGIN:VCALENDAR
VERSION:2.0
PRODID:-//wp-events-plugin.com//7.2.3.1//EN
TZID:Europe/Brussels
X-WR-TIMEZONE:Europe/Brussels
BEGIN:VEVENT
UID:225@questionnement.be
DTSTART;TZID=Europe/Paris:20220201T193000
DTEND;TZID=Europe/Paris:20220201T210000
DTSTAMP:20251123T111059Z
URL:https://questionnement.be/events/atelier-de-lecture-le-sexe-des-modern
 es-deric-marty-aux-editions-du-seuil-2021/
SUMMARY:Atelier de lecture : Le Sexe des  Modernes  d'Éric Marty\, aux éd
 itions du Seuil (2021)
DESCRIPTION:\n\n\n\n\n\n\n\n\n\n\n\n\n\n\n\n\n\n\nDisjoindre le sexe et le 
 genre est un geste éminemment moderne\, théoriser cette dissociation l
 ’est plus encore.\n \nCe livre est d’une certaine manière l’histoi
 re de ce geste. Il nous mène des grandes entreprises déconstructrices de
  la Modernité des années 1960-1980 jusqu’au triomphe contemporain de l
 a théorie du genre : de Sartre\, Lacan\, Deleuze\, Barthes\, Derrida ou F
 oucault jusqu’à Judith Butler.\n\n \nPour la séance du mardi 1er fév
 rier\, nous lirons le premier chapitre de la première partie : Ordre symb
 olique et champ social.\n \n\nAu plaisir de vous rencontrer sur zoom\,\n\
 nSylvain Gross\, Martin Petras\n\nContact : Sylvain Gross \n\nGSM +324952
 58345\nMail sylvaingross51@gmail.com. \n\n\n\n\n\n\n\n\n\n\n\n\n\n\n\n\n\
 n\n
END:VEVENT
BEGIN:VTIMEZONE
TZID:Europe/Paris
X-LIC-LOCATION:Europe/Paris
BEGIN:STANDARD
DTSTART:20211031T020000
TZOFFSETFROM:+0200
TZOFFSETTO:+0100
TZNAME:CET
END:STANDARD
END:VTIMEZONE
END:VCALENDAR