BEGIN:VCALENDAR
VERSION:2.0
PRODID:-//wp-events-plugin.com//7.2.3.1//EN
TZID:Europe/Brussels
X-WR-TIMEZONE:Europe/Brussels
BEGIN:VEVENT
UID:218@questionnement.be
DTSTART;TZID=Europe/Paris:20211005T183000
DTEND;TZID=Europe/Paris:20211005T203000
DTSTAMP:20251123T111059Z
URL:https://questionnement.be/events/atelier-de-lecture-sexualites-en-trav
 aux-2/
SUMMARY:Atelier de lecture : "Sexualités en travaux"
DESCRIPTION:Cette année dans le cadre de l'atelier de lecture nous proposo
 ns de lire le livre suivant :\nSexualités en travaux \nde Jean-Claude  
 Milner\,  Slavoj Zizek et  Juan Pablo Lucchelli\, aux éditions Michèl
 e (2018)\n&nbsp\;\n\nCe livre interroge le rapport entre les sexes ou plut
 ôt le rapport de l'être au sexuel après plus de cent ans de psychanalys
 e et de luttes féministes.\n\nLe mouvement LGBT\, le mariage mixte et les
  théories du genre sont une remise en question de l'épistémologie binai
 re hétéronormative (Paul Preciado).\n\nNous nous proposons de confronter
  la psychanalyse à ces théories et débats qui entourent aujourd'hui les
  nouvelles formes de sexualité.\n\n&nbsp\;\n\nLes réunions se tiendront 
 les premiers mardi du mois (sauf congés scolaires). Programmées au plann
 ing familial de Boitsfort\, l’épidémie a décidé qu’elles auront li
 eu par Zoom.\n\nPour la séance du mardi 5 octobre\, nous nous réunirons 
 autour de l’article de Slavoj Zizek\, "Le sexuel n'est pas (politiquemen
 t) correct" (p.73-147).\n\nSi vous désirez  y participer envoyez un mail
  à micha.vandermeulen@gmail.com. Un lien vous sera envoyé pour rejoindre
  la réunion.\n\n&nbsp\;\n\nSylvain Gross\, Martin Petras
END:VEVENT
BEGIN:VTIMEZONE
TZID:Europe/Paris
X-LIC-LOCATION:Europe/Paris
BEGIN:DAYLIGHT
DTSTART:20210328T030000
TZOFFSETFROM:+0100
TZOFFSETTO:+0200
TZNAME:CEST
END:DAYLIGHT
END:VTIMEZONE
END:VCALENDAR