BEGIN:VCALENDAR
VERSION:2.0
PRODID:-//wp-events-plugin.com//7.2.3.1//EN
TZID:Europe/Brussels
X-WR-TIMEZONE:Europe/Brussels
BEGIN:VEVENT
UID:221@questionnement.be
DTSTART;TZID=Europe/Paris:20211207T193000
DTEND;TZID=Europe/Paris:20211207T213000
DTSTAMP:20251123T111059Z
URL:https://questionnement.be/events/atelier-de-lecture-sexualites-en-trav
 aux-3/
SUMMARY:Atelier de lecture : "Sexualités en travaux"
DESCRIPTION:Cette année dans le cadre de l'atelier de lecture nous proposo
 ns de lire le livre suivant :\nSexualités en travaux \nde Jean-Claude  
 Milner\,  Slavoj Zizek et  Juan Pablo Lucchelli\, aux éditions Michèl
 e (2018)\n&nbsp\;\n\nCe livre interroge le rapport entre les sexes ou plut
 ôt le rapport de l'être au sexuel après plus de cent ans de psychanalys
 e et de luttes féministes.\n\nLe mouvement LGBT\, le mariage mixte et les
  théories du genre sont une remise en question de l'épistémologie binai
 re hétéronormative (Paul Preciado).\n\nNous nous proposons de confronter
  la psychanalyse à ces théories et débats qui entourent aujourd'hui les
  nouvelles formes de sexualité.\n\n&nbsp\;\n\nLes réunions se tiendront 
 les premiers mardi du mois (sauf congés scolaires). Programmées au plann
 ing familial de Boitsfort\, l’épidémie a décidé qu’elles auront li
 eu par Zoom.\n\nPour la séance du mardi 7 décembre\, nous nous réuniron
 s autour de l’article de Jean-Claude Milner\, "D'une sexualité l'autre"
  (p.15-68).\n\nSi vous désirez  y participer envoyez un mail à micha.va
 ndermeulen@gmail.com. Un lien vous sera envoyé pour rejoindre la réunion
 .\n\n&nbsp\;\n\nSylvain Gross\, Martin Petras
END:VEVENT
BEGIN:VTIMEZONE
TZID:Europe/Paris
X-LIC-LOCATION:Europe/Paris
BEGIN:STANDARD
DTSTART:20211031T020000
TZOFFSETFROM:+0200
TZOFFSETTO:+0100
TZNAME:CET
END:STANDARD
END:VTIMEZONE
END:VCALENDAR