BEGIN:VCALENDAR
VERSION:2.0
PRODID:-//wp-events-plugin.com//7.2.3.1//EN
TZID:Europe/Brussels
X-WR-TIMEZONE:Europe/Brussels
BEGIN:VEVENT
UID:212@questionnement.be
DTSTART;TZID=Europe/Paris:20210105T193000
DTEND;TZID=Europe/Paris:20210105T213000
DTSTAMP:20251123T111059Z
URL:https://questionnement.be/events/atelier-de-lecture-sexualites-en-trav
 aux/
SUMMARY:Atelier de lecture : "Sexualités en travaux"
DESCRIPTION:Cette année dans le cadre de l'atelier de lecture nous proposo
 ns de lire le livre suivant\n\n \n\nSexualités en travaux \n\nde Jean-C
 laude  Milner\,  Slavoj Zizek et  Juan Pablo Lucchelli\n\naux éditions
  Michèle (2018)\n\n&nbsp\;\n\nCe livre interroge le rapport entre les sex
 es ou plutôt le rapport de l'être au sexuel après plus de cent ans de p
 sychanalyse et de luttes féministes.\n\nLe mouvement LGBT\, le mariage mi
 xte et les théories du genre sont une remise en question de l'épistémol
 ogie binaire hétéronormative (Paul Preciado).\n\nNous nous proposons de 
 confronter la psychanalyse à ces théories et débats qui entourent aujou
 rd'hui les nouvelles formes de sexualité.\n\n&nbsp\;\n\nLes réunions se 
 tiendront les premiers mardi du mois (sauf congés scolaires). Programmée
 s  au planning  familial de Boitsfort \, l’épidémie a décidé qu’
 elles auront lieu par Zoom.\n\nLa première séance  aura lieu le mardi 1
  décembre  à  20h30 et portera sur l’article de Juan Pablo Lucchelli
  (p.149-213).\n\n&nbsp\;\n\nSi vous désirez  y participer envoyez un mai
 l à martin.jan.petras@gmail.com . Un lien vous sera envoyé pour rejoindr
 e la réunion.\n\n&nbsp\;\n\nSylvain Gross\, Martin Petras\n\n&nbsp\;
END:VEVENT
BEGIN:VTIMEZONE
TZID:Europe/Paris
X-LIC-LOCATION:Europe/Paris
BEGIN:STANDARD
DTSTART:20201025T020000
TZOFFSETFROM:+0200
TZOFFSETTO:+0100
TZNAME:CET
END:STANDARD
END:VTIMEZONE
END:VCALENDAR