BEGIN:VCALENDAR
VERSION:2.0
PRODID:-//wp-events-plugin.com//7.2.3.1//EN
TZID:Europe/Brussels
X-WR-TIMEZONE:Europe/Brussels
BEGIN:VEVENT
UID:241@questionnement.be
DTSTART;TZID=Europe/Paris:20230321T190000
DTEND;TZID=Europe/Paris:20230321T213000
DTSTAMP:20251123T111059Z
URL:https://questionnement.be/events/christian-fierens-nous-presente-son-d
 ernier-livre-lecture-de-lidentification-de-lacan-de-lutopie-didentite-au-m
 oteur-de-linvention/
SUMMARY:Christian Fierens nous présente son dernier livre : Lecture de "L'
 identification" de Lacan De l'utopie d'identité au moteur de l'invention
DESCRIPTION:«Qui suis-je?». Réponse : «Tu es X ou Y!»\nou\n«Qui suis
 -je?». ... ??? (pas de réponse)\n&nbsp\;\n\n\n\n&nbsp\;\n\nLa question 
 du sujet et de son identification n’aboutit jamais à une identité ac
 quise une bonne fois pour toutes. Elle continue à se poser tout au long 
 de la vie.\n\nL’identification est un processus symbolique toujours en r
 oute\, impliquant le réel.\n\nCe processus peut se jouer de deux façon
 s complètement différentes. D’une part\, l’identification peut s
 ’appuyer sur un grand Autre consistant qui valide mon identité tout en
  m’enchaînant à lui (c’est un processus névrotique). D’autre p
 art\, la non-réponse du grand Autre (radicalement barré) comme appui p
 our la question du sujet ouvre un tout autre type d’identification\, qui
  ne pourra se jouer qu’à partir des forces inconscientes (c’est un p
 rocessus créateur).\n\nLa différence entre ces deux approches du proce
 ssus psychanalytique marque un tournant fondamental dans l’enseignement 
 et la pratique de la psychanalyse. Ce tournant est explicité dans la top
 ologie des surfaces de Lacan. C’est un moment majeur\, largement inexplo
 ré\, de l’enseignement de Lacan.\n\n
END:VEVENT
BEGIN:VTIMEZONE
TZID:Europe/Paris
X-LIC-LOCATION:Europe/Paris
BEGIN:STANDARD
DTSTART:20221030T020000
TZOFFSETFROM:+0200
TZOFFSETTO:+0100
TZNAME:CET
END:STANDARD
END:VTIMEZONE
END:VCALENDAR