BEGIN:VCALENDAR
VERSION:2.0
PRODID:-//wp-events-plugin.com//7.2.3.1//EN
TZID:Europe/Brussels
X-WR-TIMEZONE:Europe/Brussels
BEGIN:VEVENT
UID:224@questionnement.be
DTSTART;TZID=Europe/Paris:20220129T093000
DTEND;TZID=Europe/Paris:20220129T113000
DTSTAMP:20251123T111059Z
URL:https://questionnement.be/events/conference-de-pascal-nottet/
SUMMARY:Conférence de pascal Nottet
DESCRIPTION:"Quel pourrait être\, encore aujourd'hui\, le sens de l'expér
 ience "psychanalyse" ?"\n
END:VEVENT
BEGIN:VTIMEZONE
TZID:Europe/Paris
X-LIC-LOCATION:Europe/Paris
BEGIN:STANDARD
DTSTART:20211031T020000
TZOFFSETFROM:+0200
TZOFFSETTO:+0100
TZNAME:CET
END:STANDARD
END:VTIMEZONE
END:VCALENDAR