BEGIN:VCALENDAR
VERSION:2.0
PRODID:-//wp-events-plugin.com//7.2.3.1//EN
TZID:Europe/Brussels
X-WR-TIMEZONE:Europe/Brussels
BEGIN:VEVENT
UID:208@questionnement.be
DTSTART;TZID=Europe/Paris:20201128T083000
DTEND;TZID=Europe/Paris:20201129T120000
DTSTAMP:20251123T111059Z
URL:https://questionnement.be/events/consequences-cliniques-du-principe-de
 -jouissance/
SUMMARY:Conséquences cliniques du principe de jouissance
DESCRIPTION:&nbsp\;\n\nCent ans après la publication de « Au-delà du p
 rincipe de plaisir » (1920)\, ce weekend d’études est proposé comme
  un moment de réflexion\, d’invention et de renouvellement de notre pra
 tique psychanalytique à partir du livre « Le principe de jouissance 
 » (2020) de Chr. Fierens.\n\n&nbsp\;\n\nLe terme de « jouissance »\
 , fort employé dans le jargon des psychanalystes notamment pour les soi-d
 isant nouvelles pathologies\, reste fondamentalement inquestionné. Il doi
 t être situé par rapport au travail de l’inconscient « qui ne pense
  pas\, ne calcule pas\, ne juge absolument pas »\, mais qui fonctionne
  tout autrement : selon le « principe de jouissance » (le plus souv
 ent ignoré ou ramené à une jouissance dégénérée et dévalorisée).\
 n\n&nbsp\;\n\nComment tenir compte de ce fonctionnement propre de l’inco
 nscient\, comme éthique\, au-delà et en deçà du principe de plaisir et
  selon le principe de jouissance ?\n\nComment le principe de jouissance 
 est-il central pour l’éthique de la psychanalyse\, qui suit préciséme
 nt l’inconscient comme éthique ?\n\n&nbsp\;\n\nCes questions sont cen
 trales pour tous les genres de pratique psychanalytique\, puisqu’elles i
 nterrogent leur principe même. Elles résonnent à partir de la lecture d
 e la moralité kantienne et de « Kant avec Sade » de Lacan\, dont la
  lecture est explicitée dans « Le principe de jouissance ». Tous le
 s intervenants et discutants principaux se seront préparés à ces deux j
 ournées d’études\, de réflexions et d’inventions par la lecture de 
 ce dernier livre.
END:VEVENT
BEGIN:VTIMEZONE
TZID:Europe/Paris
X-LIC-LOCATION:Europe/Paris
BEGIN:STANDARD
DTSTART:20201025T020000
TZOFFSETFROM:+0200
TZOFFSETTO:+0100
TZNAME:CET
END:STANDARD
END:VTIMEZONE
END:VCALENDAR