BEGIN:VCALENDAR
VERSION:2.0
PRODID:-//wp-events-plugin.com//7.2.3.1//EN
TZID:Europe/Brussels
X-WR-TIMEZONE:Europe/Brussels
BEGIN:VEVENT
UID:195@questionnement.be
DTSTART;TZID=Europe/Paris:20191123T084500
DTEND;TZID=Europe/Paris:20191123T120000
DTSTAMP:20251123T111059Z
URL:https://questionnement.be/events/david-bernard-autour-de-son-livre-lac
 an-et-la-honte-en-association-avec-lafb/
SUMMARY:David Bernard autour de son livre "Lacan et la honte" en associatio
 n avec l'AFB
DESCRIPTION:David Bernard  23 novembre  2019\n\n(cliquez sur le lien ci d
 essus )
END:VEVENT
BEGIN:VTIMEZONE
TZID:Europe/Paris
X-LIC-LOCATION:Europe/Paris
BEGIN:STANDARD
DTSTART:20191027T020000
TZOFFSETFROM:+0200
TZOFFSETTO:+0100
TZNAME:CET
END:STANDARD
END:VTIMEZONE
END:VCALENDAR