BEGIN:VCALENDAR
VERSION:2.0
PRODID:-//wp-events-plugin.com//7.2.3.1//EN
TZID:Europe/Brussels
X-WR-TIMEZONE:Europe/Brussels
BEGIN:VEVENT
UID:247@questionnement.be
DTSTART;TZID=Europe/Paris:20240207T190000
DTEND;TZID=Europe/Paris:20240207T210000
DTSTAMP:20251123T111100Z
URL:https://questionnement.be/events/dires-en-chantier-autour-du-livre-de-
 thomas-perilleux-le-travail-a-vif/
SUMMARY:Dire(s) en chantier : Autour du livre de Thomas Périlleux : "Le tr
 avail à vif"
DESCRIPTION:Dans le cadre du dispositif "Chantier"\, le Questionnement Psyc
 hanalytique recevra Thomas Périlleux au CAL. Il viendra présenter son li
 vre "le travail à vif" dont voici un extrait du 4e de couverture:\n\n"L'o
 uvrage est né d'une pratique de consultations entamée il y a une quinzai
 ne d'années auprès de personnes en difficulté professionnelle... Les r
 écits approfondis éclairent des problématiques bien actuelles dans les 
 milieux de travail: l'épuisement\, la honte\, le mépris\, les violences 
 sournoises\, l'étouffement de la parole...L'auteur interroge la manière\
 nd'y répondre dans la singularité des rencontres avec les patients. Avec
  eux il identifie des points de résistance afin de redonner à l'expérie
 nce de travail toute sa force de création vitale.\nDans une clinique enga
 gée\, aux charnières entre l'écoute thérapeutique et l'engagement poli
 tique\, il questionne les "pathologies" du travail\, leur prise en charge 
 et ce qu'elles disent des mutations sociétales"\n\nLes personnes qui sera
 ient intéressées par la préparation de quelques questions à adresser 
 à Thomas Périlleux peuvent me contacter afin de fixer un moment de renco
 ntre (en présentiel ou par zoom).\n\nUn drink clôturera la soirée.\n\nA
 fin de faciliter l'organisation de cette rencontre voulez-vous vous inscri
 re en envoyant un mail à info@questionnement.be.
END:VEVENT
BEGIN:VTIMEZONE
TZID:Europe/Paris
X-LIC-LOCATION:Europe/Paris
BEGIN:STANDARD
DTSTART:20231029T020000
TZOFFSETFROM:+0200
TZOFFSETTO:+0100
TZNAME:CET
END:STANDARD
END:VTIMEZONE
END:VCALENDAR