BEGIN:VCALENDAR
VERSION:2.0
PRODID:-//wp-events-plugin.com//7.2.3.1//EN
TZID:Europe/Brussels
X-WR-TIMEZONE:Europe/Brussels
BEGIN:VEVENT
UID:240@questionnement.be
DTSTART;TZID=Europe/Paris:20230329T180000
DTEND;TZID=Europe/Paris:20230329T200000
DTSTAMP:20251123T111059Z
URL:https://questionnement.be/events/dires-en-chantier-quelques-consequenc
 es-subjectives-du-bannissement-joelle-conrotte/
SUMMARY:Dire(s) en chantier : " Quelques conséquences subjectives du banni
 ssement" Joëlle Conrotte
DESCRIPTION:Les discutants pour la soirée sont : Barbara Santana psycholog
 ue au SSM Le Méridien\, Membre de l’Association Freudienne de Belgique 
 et Thomas Perilleux\, sociologue\, professeur à l’UCL et membre de l’
 Association Freudienne de Belgique.\n\nVoici l'argument de Joëlle Conrott
 e :\n\n&nbsp\;\n\nJe propose d’appeler « bannissement » cette expérie
 nce que fait le demandeur d’asile lorsque sa requête de protection est 
 refusée par l’Etat. Perdant alors tout droit de séjour ici\, il perd a
 ussi le droit de travailler\, d’avoir une adresse\, d’étudier\, de se
  marier\, etc.\n\nL’épreuve du bannissement constitue un troisième tem
 ps de l’exil forcé\, quand après avoir enduré des persécutions au pa
 ys d’origine\, traversé les aléas d’une procédure juridique longue 
 et éprouvante le réfugié se voit rejeté par l’État.\n\nL’accueil 
 clinique des personnes en précarité de séjour amène à entendre une s
 érie de plaintes (inactivité\, insomnies\, somatisations) qui témoignen
 t de processus de déliaison à l’œuvre. Quel devenir est-il possible p
 our la subjectivité dans ces conditions ?\n\nQuels sont les enjeux et les
  limites de l’écoute analytique avec ceux et celles qu’on nomme les 
 « sans papiers » ?\n\nLa souffrance liée au bannissement est liée au d
 roit\, à la souveraineté de l’État Nation\, elle exige un questionnem
 ent à la fois sur les conditions des processus d’humanisation et sur no
 s pratiques.\n
END:VEVENT
BEGIN:VTIMEZONE
TZID:Europe/Paris
X-LIC-LOCATION:Europe/Paris
BEGIN:DAYLIGHT
DTSTART:20230326T030000
TZOFFSETFROM:+0100
TZOFFSETTO:+0200
TZNAME:CEST
END:DAYLIGHT
END:VTIMEZONE
END:VCALENDAR