BEGIN:VCALENDAR
VERSION:2.0
PRODID:-//wp-events-plugin.com//7.2.3.1//EN
TZID:Europe/Brussels
X-WR-TIMEZONE:Europe/Brussels
BEGIN:VEVENT
UID:215@questionnement.be
DTSTART;TZID=Europe/Paris:20211127T081500
DTEND;TZID=Europe/Paris:20211128T111500
DTSTAMP:20251123T111059Z
URL:https://questionnement.be/events/dires-en-chantiers-2-journees-de-trav
 ail-du-questionnement-psychanalytique/
SUMMARY:"Dire(s) en chantiers" : 2 journées de travail du Questionnement P
 sychanalytique
DESCRIPTION:Au programme: \nSamedi 27 novembre 2021\nAccueil  à partir d
 e 9h15\n9h45 : Brève Introduction aux journées de travail par Anne Debaa
 r\n10h-12h30\nSylvie Van Den Eynde : "Appartement"\nDiscutant : Mathieu Bi
 etlot\nPascal Nottet : "Le sens de l'expérience "psychanalyse""\nDiscutan
 t : Jean-Luc Yerlès\n12h30 à 13h30 : Pause\n\n13h30-17h \nTanguy de Fo
 y : "D'un mouvement incident à un incident en mouvement"\nDiscutante : Al
 iénor Richard\nColette Godfrin : "L'enfant et le psychanalyste. C'est à 
 dire\, tout Autre Chose"\nDiscutante : Françoise Vanhalle\nMicha Vanderme
 ulen : "Satisfiction"\nDiscutant : Radjou Soundaramourty\n&nbsp\;\nDimanch
 e 28 novembre\n10h-12h30\nSylvain Gross : "Les théories du genre sont-ell
 es solubles dans les formules de la sexuation ?"\nDiscutante : Laurence Ro
 sier\nChristian Fierens : "Pour de vrai"\nDiscutante : Isabel Ramallo\n&nb
 sp\;\n\n \nUne accréditation est prévue pour  les médecins (responsab
 le Sylvie Vandeneynde)\n&nbsp\;\n\nLIEN POUR VOUS INSCRIRE :\nhttps://form
 s.gle/kSxURXt6ZAKkV8YeA\n\n\n
END:VEVENT
BEGIN:VTIMEZONE
TZID:Europe/Paris
X-LIC-LOCATION:Europe/Paris
BEGIN:STANDARD
DTSTART:20211031T020000
TZOFFSETFROM:+0200
TZOFFSETTO:+0100
TZNAME:CET
END:STANDARD
END:VTIMEZONE
END:VCALENDAR