BEGIN:VCALENDAR
VERSION:2.0
PRODID:-//wp-events-plugin.com//7.2.3.1//EN
TZID:Europe/Brussels
X-WR-TIMEZONE:Europe/Brussels
BEGIN:VEVENT
UID:217@questionnement.be
DTSTART;TZID=Europe/Paris:20211019T180000
DTEND;TZID=Europe/Paris:20211019T193000
DTSTAMP:20251123T111059Z
URL:https://questionnement.be/events/et-si-on-relisait-freud-2/
SUMMARY:Et si on (re)lisait Freud
DESCRIPTION:Dans le cadre du séminaire "Et si on (re)lisait Freud?"\n\nRen
 aud Quoidbach et Vincenzo Ferrara nous présenterons la quatrième leçon 
 des conférences que Freud présenta en 1909 à la Clark University\n\n(pu
 bliée en français sous le titre : 5 leçons sur la psychanalyse)\n
END:VEVENT
BEGIN:VTIMEZONE
TZID:Europe/Paris
X-LIC-LOCATION:Europe/Paris
BEGIN:DAYLIGHT
DTSTART:20210328T030000
TZOFFSETFROM:+0100
TZOFFSETTO:+0200
TZNAME:CEST
END:DAYLIGHT
END:VTIMEZONE
END:VCALENDAR