BEGIN:VCALENDAR
VERSION:2.0
PRODID:-//wp-events-plugin.com//7.2.3.1//EN
TZID:Europe/Brussels
X-WR-TIMEZONE:Europe/Brussels
BEGIN:VEVENT
UID:222@questionnement.be
DTSTART;TZID=Europe/Paris:20220119T190000
DTEND;TZID=Europe/Paris:20220119T210000
DTSTAMP:20251123T111059Z
URL:https://questionnement.be/events/et-si-on-relisait-freud-3/
SUMMARY:Et si on (re)lisait Freud
DESCRIPTION:Une introduction proposée par Christian Fierens\n\n"Le texte d
 e Freud « Pour introduire le narcissisme » (1914) est le texte fonda
 mental par lequel la théorie freudienne passe de la première topique (in
 conscient-préconscient-conscient) à la deuxième topique (moi-ça-surmoi
 )\, non sans des conséquences majeures pour la pratique psychanalytique.\
 n\nLe même texte de Freud est un point de départ fondamental dans le pre
 mier séminaire de Lacan (Les écrits techniques de Freud\, 1954)\, pour t
 out son enseignement.\n\nAu cours de trois soirées\, nous proposerons de 
 mettre en résonnance :\n\n 	Une lecture commentée et articulée du text
 e de Freud\,\n 	Une mise en relief de son enjeu pour toute la psychanalyse
 \,\n 	Une mise en œuvre dans la pratique aujourd’hui."\n\n&nbsp\;\n
END:VEVENT
BEGIN:VTIMEZONE
TZID:Europe/Paris
X-LIC-LOCATION:Europe/Paris
BEGIN:STANDARD
DTSTART:20211031T020000
TZOFFSETFROM:+0200
TZOFFSETTO:+0100
TZNAME:CET
END:STANDARD
END:VTIMEZONE
END:VCALENDAR