BEGIN:VCALENDAR
VERSION:2.0
PRODID:-//wp-events-plugin.com//7.2.3.1//EN
TZID:Europe/Brussels
X-WR-TIMEZONE:Europe/Brussels
BEGIN:VEVENT
UID:223@questionnement.be
DTSTART;TZID=Europe/Paris:20220216T190000
DTEND;TZID=Europe/Paris:20220216T210000
DTSTAMP:20251123T111059Z
URL:https://questionnement.be/events/et-si-on-relisait-freud-4/
SUMMARY:Et si on (re)lisait Freud
DESCRIPTION:"Le texte de Freud « Pour introduire le narcissisme » (19
 14) est le texte fondamental par lequel la théorie freudienne passe de la
  première topique (inconscient-préconscient-conscient) à la deuxième t
 opique (moi-ça-surmoi)\, non sans des conséquences majeures pour la prat
 ique psychanalytique. \n\nLe même texte de Freud est un point de départ 
 fondamental dans le premier séminaire de Lacan (Les écrits techniques de
  Freud\, 1954)\, pour tout son enseignement.  \n\nAu cours de trois soir
 ées\, nous proposerons de mettre en résonance :  \n\n.Une lecture comme
 ntée et articulée du texte de Freud\, \n\n.Une mise en relief de son enj
 eu pour toute la psychanalyse\, \n\n.Une mise en œuvre dans la pratique a
 ujourd’hui."\n
END:VEVENT
BEGIN:VTIMEZONE
TZID:Europe/Paris
X-LIC-LOCATION:Europe/Paris
BEGIN:STANDARD
DTSTART:20211031T020000
TZOFFSETFROM:+0200
TZOFFSETTO:+0100
TZNAME:CET
END:STANDARD
END:VTIMEZONE
END:VCALENDAR