BEGIN:VCALENDAR
VERSION:2.0
PRODID:-//wp-events-plugin.com//7.2.3.1//EN
TZID:Europe/Brussels
X-WR-TIMEZONE:Europe/Brussels
BEGIN:VEVENT
UID:238@questionnement.be
DTSTART;TZID=Europe/Paris:20230308T190000
DTEND;TZID=Europe/Paris:20230308T210000
DTSTAMP:20251123T111059Z
URL:https://questionnement.be/events/et-si-on-relisait-freud-5/
SUMMARY:Et si on (re)lisait Freud
DESCRIPTION:Reprise du Séminaire "Et si on (re)lisait Freud" le mercredi 1
 9 octobre 2022 à 20h avec d'abord 2 textes de 1917 (publié en français 
 dans Métapsychologie) : Le Refoulement et L'inconscient.\n\nLe séminaire
  aura lieu tous les 2ᵉ mercredis du mois. Un texte d'introduction suivra
 .\n\nOuvert à tous.\nSi vous n'avez pas encore participé à ce séminair
 e il est important de vous inscrire pour recevoir le lien ZOOM !\n
END:VEVENT
BEGIN:VTIMEZONE
TZID:Europe/Paris
X-LIC-LOCATION:Europe/Paris
BEGIN:STANDARD
DTSTART:20221030T020000
TZOFFSETFROM:+0200
TZOFFSETTO:+0100
TZNAME:CET
END:STANDARD
END:VTIMEZONE
END:VCALENDAR