BEGIN:VCALENDAR
VERSION:2.0
PRODID:-//wp-events-plugin.com//7.2.3.1//EN
TZID:Europe/Brussels
X-WR-TIMEZONE:Europe/Brussels
BEGIN:VEVENT
UID:242@questionnement.be
DTSTART;TZID=Europe/Paris:20240911T180000
DTEND;TZID=Europe/Paris:20240911T200000
DTSTAMP:20251123T111059Z
URL:https://questionnement.be/events/et-si-on-relisait-freud-6/
SUMMARY:Et si on (re)lisait Freud
DESCRIPTION:Actuellement il s'agit de la lecture commentée du texte de Fre
 ud : "l'inconscient" 1917\n\nanimée par Vincenzo Ferrera et Pascal Nottet
 \n\nCes rencontres ont lieu sur zoom ...tout le monde est le bienvenu mais
  il est important de s'inscrire (une  seule fois suffit)   pour recevoir
   les liens zoom\n
END:VEVENT
BEGIN:VTIMEZONE
TZID:Europe/Paris
X-LIC-LOCATION:Europe/Paris
BEGIN:DAYLIGHT
DTSTART:20240331T030000
TZOFFSETFROM:+0100
TZOFFSETTO:+0200
TZNAME:CEST
END:DAYLIGHT
END:VTIMEZONE
END:VCALENDAR