BEGIN:VCALENDAR
VERSION:2.0
PRODID:-//wp-events-plugin.com//7.2.3.1//EN
TZID:Europe/Brussels
X-WR-TIMEZONE:Europe/Brussels
BEGIN:VEVENT
UID:214@questionnement.be
DTSTART;TZID=Europe/Paris:20210615T180000
DTEND;TZID=Europe/Paris:20210615T200000
DTSTAMP:20251123T111059Z
URL:https://questionnement.be/events/et-si-on-relisait-freud-conference-de
 -vincent-cartuyvels-historien-de-lart-vienne-fin-de-siecle/
SUMMARY:Et si on (re)lisait Freud : conférence de Vincent Cartuyvels (hist
 orien de l'art) : "Vienne fin de Siècle"
DESCRIPTION:\n 	Conférence de Vincent Cartuyvels\, historien de l’art\, 
 qui évoquera pour nous la Vienne artistique dans laquelle Freud évoluait
 \n\n
END:VEVENT
BEGIN:VTIMEZONE
TZID:Europe/Paris
X-LIC-LOCATION:Europe/Paris
BEGIN:DAYLIGHT
DTSTART:20210328T030000
TZOFFSETFROM:+0100
TZOFFSETTO:+0200
TZNAME:CEST
END:DAYLIGHT
END:VTIMEZONE
END:VCALENDAR