BEGIN:VCALENDAR
VERSION:2.0
PRODID:-//wp-events-plugin.com//7.2.3.1//EN
TZID:Europe/Brussels
X-WR-TIMEZONE:Europe/Brussels
BEGIN:VEVENT
UID:227@questionnement.be
DTSTART;TZID=Europe/Paris:20220316T190000
DTEND;TZID=Europe/Paris:20220316T210000
DTSTAMP:20251123T111059Z
URL:https://questionnement.be/events/et-si-on-relisait-freud-pour-introdui
 re-le-narcissisme/
SUMMARY:Et si on (re)lisait Freud : "Pour introduire le narcissisme"
DESCRIPTION:3ème séance de la lecture de  "Pour introduire introduire le
  narcissisme" présentée par Guy Mertens et Christian Fierens\n
END:VEVENT
BEGIN:VTIMEZONE
TZID:Europe/Paris
X-LIC-LOCATION:Europe/Paris
BEGIN:STANDARD
DTSTART:20211031T020000
TZOFFSETFROM:+0200
TZOFFSETTO:+0100
TZNAME:CET
END:STANDARD
END:VTIMEZONE
END:VCALENDAR