BEGIN:VCALENDAR
VERSION:2.0
PRODID:-//wp-events-plugin.com//7.2.3.1//EN
TZID:Europe/Brussels
X-WR-TIMEZONE:Europe/Brussels
BEGIN:VEVENT
UID:229@questionnement.be
DTSTART;TZID=Europe/Paris:20220420T180000
DTEND;TZID=Europe/Paris:20220420T200000
DTSTAMP:20251123T111059Z
URL:https://questionnement.be/events/et-si-on-relisait-freud-pulsions-et-d
 estin-des-pulsions-lecture-de-pascal-nottet/
SUMMARY:Et si on (re)lisait Freud : "Pulsions et destin des pulsions" lectu
 re de pascal Nottet
DESCRIPTION:&nbsp\;\n
END:VEVENT
BEGIN:VTIMEZONE
TZID:Europe/Paris
X-LIC-LOCATION:Europe/Paris
BEGIN:DAYLIGHT
DTSTART:20220327T030000
TZOFFSETFROM:+0100
TZOFFSETTO:+0200
TZNAME:CEST
END:DAYLIGHT
END:VTIMEZONE
END:VCALENDAR