BEGIN:VCALENDAR
VERSION:2.0
PRODID:-//wp-events-plugin.com//7.2.3.1//EN
TZID:Europe/Brussels
X-WR-TIMEZONE:Europe/Brussels
BEGIN:VEVENT
UID:231@questionnement.be
DTSTART;TZID=Europe/Paris:20220615T180000
DTEND;TZID=Europe/Paris:20220615T200000
DTSTAMP:20251123T111059Z
URL:https://questionnement.be/events/et-si-on-relisait-freud-seance-de-clo
 ture-pour-la-saison-2021-2022/
SUMMARY:Et si on (re)lisait Freud : Séance de clôture pour la saison 2021
 -2022
DESCRIPTION:&nbsp\;\n
END:VEVENT
BEGIN:VTIMEZONE
TZID:Europe/Paris
X-LIC-LOCATION:Europe/Paris
BEGIN:DAYLIGHT
DTSTART:20220327T030000
TZOFFSETFROM:+0100
TZOFFSETTO:+0200
TZNAME:CEST
END:DAYLIGHT
END:VTIMEZONE
END:VCALENDAR