BEGIN:VCALENDAR
VERSION:2.0
PRODID:-//wp-events-plugin.com//7.2.3.1//EN
TZID:Europe/Brussels
X-WR-TIMEZONE:Europe/Brussels
BEGIN:VEVENT
UID:213@questionnement.be
DTSTART;TZID=Europe/Paris:20210420T180000
DTEND;TZID=Europe/Paris:20210420T200000
DTSTAMP:20251123T111059Z
URL:https://questionnement.be/events/et-si-on-relisait-freud/
SUMMARY:Et si on (re)lisait Freud...
DESCRIPTION:Lecture collective  de "5 leçons sur la psychanalyse"
END:VEVENT
BEGIN:VTIMEZONE
TZID:Europe/Paris
X-LIC-LOCATION:Europe/Paris
BEGIN:DAYLIGHT
DTSTART:20210328T030000
TZOFFSETFROM:+0100
TZOFFSETTO:+0200
TZNAME:CEST
END:DAYLIGHT
END:VTIMEZONE
END:VCALENDAR