BEGIN:VCALENDAR
VERSION:2.0
PRODID:-//wp-events-plugin.com//7.2.3.1//EN
TZID:Europe/Brussels
X-WR-TIMEZONE:Europe/Brussels
BEGIN:VEVENT
UID:205@questionnement.be
DTSTART;TZID=Europe/Paris:20191105T193000
DTEND;TZID=Europe/Paris:20191105T213000
DTSTAMP:20251123T111059Z
URL:https://questionnement.be/events/groupe-de-lecture/
SUMMARY:groupe de lecture
DESCRIPTION:Reprise du groupe de lecture autour du livre de Solal Rabinovit
 ch : L'ange\, le fou\, le savant et le psychanalyste\n\nCet atelier de lec
 ture se réunit tous les premiers mardi du mois à partir du 5 novembre ( 
 hors période de vacances scolaires) et est ouvert à tous  ....Ce groupe
  se réunira au Centre de Planning familial de Watermael Boisfoirt\n\nLe r
 esponsable est Martin Petras\n\nmartin.jan.petras@gmail.com
END:VEVENT
BEGIN:VTIMEZONE
TZID:Europe/Paris
X-LIC-LOCATION:Europe/Paris
BEGIN:STANDARD
DTSTART:20191027T020000
TZOFFSETFROM:+0200
TZOFFSETTO:+0100
TZNAME:CET
END:STANDARD
END:VTIMEZONE
END:VCALENDAR