BEGIN:VCALENDAR
VERSION:2.0
PRODID:-//wp-events-plugin.com//7.2.3.1//EN
TZID:Europe/Brussels
X-WR-TIMEZONE:Europe/Brussels
BEGIN:VEVENT
UID:210@questionnement.be
DTSTART;TZID=Europe/Paris:20210320T090000
DTEND;TZID=Europe/Paris:20210321T113000
DTSTAMP:20251123T111059Z
URL:https://questionnement.be/events/journees-de-travail-autour-du-livre-q
 uest-ce-que-la-psychanalyse-avec-deleuze-et-depuis-hume-de-pascal-nottet/
SUMMARY:Journées de travail autour du livre : "Qu'est ce que la psychanaly
 se ? Avec Deleuze et depuis Hume" de Pascal Nottet
DESCRIPTION:Journées de travail des 20 et 21 mars 2021\n\nQu’est-ce que 
 la psychanalyse ? avec Deleuze et depuis Hume\n\nPROGRAMME\n\n \n\n \n\
 n 	DE-DANS – samedi 20/3 (10h-12h30)\n\n&nbsp\;\n\nOuverture des deux jo
 urnées : Joëlle CONROTTE\n\nPrésident de séance :         
       Pascal NOTTET\n\nDiscutant :                 
               Sylvain JEANMART\n\n&nbsp\;\n\nOlivier WATHELET
 \, psychanalyste\, responsable clinique à Parhélie\n\nMachine abstraite 
 et agencement de machines dans Qu’est-ce que la psychanalyse ? avec Del
 euze et depuis Hume de Pascal Nottet\n\n            Mathieu GUI
 NOT\, éducateur spécialisé\, intervenant à Parhélie\n\n       
                  En sortir et Y rester – l’espace libr
 e de la rencontre\n\nFrançois BESTGEN\, coordinateur du SSM Le Chien Vert
 \, ancien directeur de Parhélie\n\n                   
      … une question de direction ?\n\n&nbsp\;\n\n*\n\n&nbsp\;\n\n 	
 ICI – samedi 20/3 (14h30-17h)\n\n&nbsp\;\n\nPrésidente de séance :  
            Anne DEBAAR\n\nDiscutante :            
                  Danielle ELEB\n\n&nbsp\;\n\nJean-Luc YERL
 ÈS\, philosophe\, enseignant\, actif dans les arts de la scène\n\nCorps 
 ailés et voix de feu\n\n            Christian FIERENS\, psycha
 nalyste\, psychiatre\, docteur en psychologie\n\nQu’est-ce que la psycha
 nalyse ? – Wo Es war\, soll Ich werden – Là où ça était\, je dois
  devenir\n\nTable ronde : avec Danielle ELEB\, psychanalyste\, docteur en
  philosophie\, enseigne à Paris 8\n\n \n\n*\n\n&nbsp\;\n\n 	AVEC – dim
 anche 21/3 (10h-12h30)\n\n&nbsp\;\n\nPrésidente de séance :      
        Anita MORTELMANS\n\nDiscutant :              
                  Olivier WATHELET\n\n&nbsp\;\n\nJoëlle CO
 NROTTE\, psychologue\, psychanalyste\, travaille au SSM Le Méridien\n\nFr
 ayages\n\n            Gérard LEMAIRE\, médecin généraliste\
 n\nLa psychanalyse\, encore et encore ?\n\n            Sami EL
 -HAGE\, philosophe\, libraire\n\nLa philosophie en psychanalyse\, l’éch
 arde de l’autisme\n\n&nbsp\;\n\n*\n\n&nbsp\;\n\n 	DE-HORS – dimanche 2
 1/3 (14h30-17h)\n\n&nbsp\;\n\nPrésident de séance :          
      Vincenzo FERRARA\n\nDiscutant :                
                Sami EL-HAGE\n\n&nbsp\;\n\nAnne THEURILLAT\, 
 comédienne\, cinéaste\n\n                        
 La nuit sait trouver !\n\n            Laurent de SUTTER\, prof
 esseur de théorie du droit à la Vrije Universiteit Brussel\n\n     
                    Pour une psychanalyse anarchiste\n\nT
 able ronde : avec Sami EL-HAGE\, philosophe\, libraire\n\n \n\nClôture 
 des deux journées : Pascal Nottet\, Joëlle Conrotte\n\n&nbsp\;\n\n*\n\n
 &nbsp\;\n\nQuelques liens :\n\n 	Qu’est-ce que la psychanalyse ? Avec D
 eleuze et depuis Hume - psychanalyse•be\n 	Oedipe le Salon\n 	https://yo
 utu.be/_3s1XCT_JDg\n 	jpg (1584×2538) (editions-academia.be)\n 	https://p
 s-productions.ch/project/illegitime/\n 	https://ps-productions.ch/project/
 malevoz/\n 	Deleuze \; la pratique du droit - Laurent De Sutter - Librairi
 e Ombres Blanches (ombres-blanches.fr)\n 	Après la loi de Laurent de Sutt
 er - Le Carnet et les Instants (le-carnet-et-les-instants.net)\n\nGratuit 
 mais sur inscriptions via le formulaire suivant : https://forms.gle/5e1Fm7
 WSrS8VwhFf6.\n\n&nbsp\;\n
END:VEVENT
BEGIN:VTIMEZONE
TZID:Europe/Paris
X-LIC-LOCATION:Europe/Paris
BEGIN:STANDARD
DTSTART:20201025T020000
TZOFFSETFROM:+0200
TZOFFSETTO:+0100
TZNAME:CET
END:STANDARD
END:VTIMEZONE
END:VCALENDAR