BEGIN:VCALENDAR
VERSION:2.0
PRODID:-//wp-events-plugin.com//7.2.3.1//EN
TZID:Europe/Brussels
X-WR-TIMEZONE:Europe/Brussels
BEGIN:VEVENT
UID:254@questionnement.be
DTSTART;TZID=Europe/Paris:20241218T190000
DTEND;TZID=Europe/Paris:20241218T213000
DTSTAMP:20251123T111100Z
URL:https://questionnement.be/events/la-naissance-philosophique-de-la-psyc
 hanalyse/
SUMMARY:La naissance philosophique de la Psychanalyse
DESCRIPTION:Réunion zoom\, préparatoire aux Chantiers tenu par P. Nottet:
  Lacan et la naissance philosophique de la Psychanalyse.
END:VEVENT
BEGIN:VTIMEZONE
TZID:Europe/Paris
X-LIC-LOCATION:Europe/Paris
BEGIN:STANDARD
DTSTART:20241027T020000
TZOFFSETFROM:+0200
TZOFFSETTO:+0100
TZNAME:CET
END:STANDARD
END:VTIMEZONE
END:VCALENDAR