BEGIN:VCALENDAR
VERSION:2.0
PRODID:-//wp-events-plugin.com//7.2.3.1//EN
TZID:Europe/Brussels
X-WR-TIMEZONE:Europe/Brussels
BEGIN:VEVENT
UID:202@questionnement.be
DTSTART;TZID=Europe/Paris:20191003T183000
DTEND;TZID=Europe/Paris:20191003T203000
DTSTAMP:20251123T111059Z
URL:https://questionnement.be/events/lecture-de-freud/
SUMMARY:Lecture de Freud
DESCRIPTION:\n 	 Lecture de Freud\n\nLecture de « Analyse finie et infin
 ie »\n\nLa finalité de l’analyse ?\n\nJour horaire et date\n\nPrem
 ier et troisième jeudi de chaque mois à partir du 2 octobre 2019 jusqu
 ’en décembre 2019\n\nLieu de l’enseignement\n\nCAL (ULB) campus de la
  plaine\, accès 2. 1050 Bruxelles (Ixelles)
END:VEVENT
BEGIN:VTIMEZONE
TZID:Europe/Paris
X-LIC-LOCATION:Europe/Paris
BEGIN:DAYLIGHT
DTSTART:20190331T030000
TZOFFSETFROM:+0100
TZOFFSETTO:+0200
TZNAME:CEST
END:DAYLIGHT
END:VTIMEZONE
END:VCALENDAR