BEGIN:VCALENDAR
VERSION:2.0
PRODID:-//wp-events-plugin.com//7.2.3.1//EN
TZID:Europe/Brussels
X-WR-TIMEZONE:Europe/Brussels
BEGIN:VEVENT
UID:203@questionnement.be
DTSTART;TZID=Europe/Paris:20200116T193000
DTEND;TZID=Europe/Paris:20200116T213000
DTSTAMP:20251123T111059Z
URL:https://questionnement.be/events/lecture-de-lacan-lethique-de-la-psych
 analyse/
SUMMARY:Lecture de Lacan : L’Éthique de la psychanalyse
DESCRIPTION:\n 	 Lecture de Lacan : L’Éthique de la psychanalyse \n\nLec
 ture du séminaire VII de Lacan\n\nJour horaire et date\n\nPremier et tro
 isième jeudi de chaque mois à partir du 16 janvier 2020 jusqu’en juin 
 2020\n\nLieu de l’enseignement\n\nCAL (ULB) campus de la plaine\, accès
  2. 1050 Bruxelles (Ixelles)\n\n&nbsp\;
END:VEVENT
BEGIN:VTIMEZONE
TZID:Europe/Paris
X-LIC-LOCATION:Europe/Paris
BEGIN:STANDARD
DTSTART:20191027T020000
TZOFFSETFROM:+0200
TZOFFSETTO:+0100
TZNAME:CET
END:STANDARD
END:VTIMEZONE
END:VCALENDAR