BEGIN:VCALENDAR
VERSION:2.0
PRODID:-//wp-events-plugin.com//7.2.3.1//EN
TZID:Europe/Brussels
X-WR-TIMEZONE:Europe/Brussels
BEGIN:VEVENT
UID:237@questionnement.be
DTSTART;TZID=Europe/Paris:20230111T190000
DTEND;TZID=Europe/Paris:20230111T210000
DTSTAMP:20251123T111059Z
URL:https://questionnement.be/events/les-chantiers-du-qp-autour-du-texte-d
 e-mathieu-bietlot-folie-de-lhospitalite/
SUMMARY:Les chantiers du QP : Autour du texte de Mathieu Bietlot « Folie d
 e l’hospitalité »
DESCRIPTION:Le mercedi 11 janvier\, à partir de 20h au\nCentre d'Action L
 aïque.\nMathieu Bietlot présentera son dernier ouvrage\n« Folie de l’
 hospitalité »\n« Cet essai approche (l’hospitalité) par petites touc
 hes philosophiques\, politiques et poétiques\, en vue de penser un accuei
 l des personnes en trouble psychique esquivant les écueils aliénants et 
 déshumanisants aussi bien de l’hôpital psychiatrique que de la respons
 abilisation néolibérale » (d’après le 4e de couverture)\nMathieu Bie
 tlot est philosophe et politologue\, il articule des activités de recherc
 hes\, des actions culturelles et des engagements militants. Il dirige actu
 ellement La Maison du Livre. En 2009 il a publié « L’horizon fermé. 
 Migrations\, démocratie et barbelés » (Espace de Libertés 2009)\nLes d
 iscutants pour la soirée seront\nVincenzo Ferrara\, Samuel Quaghebeur et
  Pascal Nottet\nPour faciliter l’organisation\,\nmerci de signaler votr
 e présence par un mail à\ninfo@questionnement.be\nAu plaisir de vous ret
 rouver ou rencontrer\,\n&nbsp\;\nPour le Questionnement Psychanalytique\nS
 ylvie Van Den Eynde\nJoëlle Conrotte
END:VEVENT
BEGIN:VTIMEZONE
TZID:Europe/Paris
X-LIC-LOCATION:Europe/Paris
BEGIN:STANDARD
DTSTART:20221030T020000
TZOFFSETFROM:+0200
TZOFFSETTO:+0100
TZNAME:CET
END:STANDARD
END:VTIMEZONE
END:VCALENDAR