BEGIN:VCALENDAR
VERSION:2.0
PRODID:-//wp-events-plugin.com//7.2.3.1//EN
TZID:Europe/Brussels
X-WR-TIMEZONE:Europe/Brussels
BEGIN:VEVENT
UID:235@questionnement.be
DTSTART;TZID=Europe/Paris:20220621T180000
DTEND;TZID=Europe/Paris:20220621T200000
DTSTAMP:20251123T111059Z
URL:https://questionnement.be/events/les-chantiers-du-qp-autour-du-texte-d
 e-micha-vandermeulen-satis-fiction/
SUMMARY:"Les chantiers du QP : Autour du texte de Micha Vandermeulen "Satis
 -fiction"
DESCRIPTION:Le mardi 21 juin via ZOOM\nde 20h à 22h\nnous nous réunirons
  autour du texte de Micha Vandermeulen\n'Satisfiction (satisfaction fictit
 ious)'\n\nÀ l'occasion de notre reprise du texte\, nous tenterons de red
 éployer ensemble quelques arguments autour de l'importance d'une éthique
  toute singulière et propre à la psychanalyse\, ainsi que l'importance d
 e sa réaffirmation dans un contexte contemporain au sein duquel les incer
 titudes et l'angoisse seraient susceptibles de pousser le jugement et la r
 éflexion\, tant côté citoyen que côté analyste\, dans une position de
  repli pour le moins "conservatrice"...\n\n&nbsp\;\n\nPour se faire\, nous
  tenterons de partir des effets singuliers d'une inscriptions subjective\,
  par le langage\, via les formules lacaniennes de la sexuation et la notio
 n d'acte.\n\n&nbsp\;\n\nNous reviendrons ainsi sur des notions centrales t
 elles que objet\, discours\, topologie...  \n
END:VEVENT
BEGIN:VTIMEZONE
TZID:Europe/Paris
X-LIC-LOCATION:Europe/Paris
BEGIN:DAYLIGHT
DTSTART:20220327T030000
TZOFFSETFROM:+0100
TZOFFSETTO:+0200
TZNAME:CEST
END:DAYLIGHT
END:VTIMEZONE
END:VCALENDAR