BEGIN:VCALENDAR
VERSION:2.0
PRODID:-//wp-events-plugin.com//7.2.3.1//EN
TZID:Europe/Brussels
X-WR-TIMEZONE:Europe/Brussels
BEGIN:VEVENT
UID:236@questionnement.be
DTSTART;TZID=Europe/Paris:20221213T190000
DTEND;TZID=Europe/Paris:20221213T210000
DTSTAMP:20251123T111059Z
URL:https://questionnement.be/events/les-chantiers-du-qp-autour-du-texte-d
 e-sylvie-van-den-eynde-appartement/
SUMMARY:Les chantiers du QP : Autour du texte de Sylvie Van Den Eynde « Ap
 partement »
DESCRIPTION:Le mardi 13 décembre EN PRÉSENCE AU CAL\nde 20h à 22h\nnous 
 nous réunirons autour du texte de Sylvie Van Den Eynde\n« Appartement »
 \nVoici son argument :\n« Je souhaite témoigner de la parole de certaine
 s femmes noires\, que la vie n’a pas épargné et pour lesquelles le sen
 timent d’exister\, de pouvoir avoir un lieu où habiter en toute sécuri
 té\, cette légitimité-là n’est pas garantie. L’écoute analytique\
 , son temps\, sa parole\, offre-t-elle un lieu où peut s’activer un foy
 er ouvert ? Qu’a-t-elle à dire hors ses murs et qu’a-t-elle à recevo
 ir de tous ces autres rencontrés\, effacés ?\nMon interrogation sur le f
 oyer\, sa nécessité physique et psychique\, s’est nourrie de différen
 tes lectures : Toni Morrison (ses romans\, ses conférences)\, Norman Ajar
 i (La dignité ou la mort)\, Paul B. Presciado (Un appartement sur Uranus\
 , Je suis un monstre qui vous parle)\, Valérie Despret (Habiter en oiseau
 )\, Baptiste Morizot (Manières d’être vivants)\, Isabelle Stengers (R
 éactiver le sens commun\, lecture de Whitehead en temps de débâcle) etc
 …\nCes femmes parlent. Elles disent l’existence effacée\, la dignité
  revendiquée\, elles interrogent le féminin\, la race\, l’exil et obli
 gent à penser au-delà de nos  frontières intimes\, à regarder au-del
 à des préjugés subtils et tenaces\, elles rendent nécessaire un travai
 l de l’imagination pour rencontrer un autre réel\, nouveau »\nAu plais
 ir de partager ce moment avec vous\, n’hésitez pas à diffuser l’info
 rmation\, la soirée est ouverte à toutes et tous !\nSylvie Van Den Eynde
 \nJoëlle Conrotte\n\n
END:VEVENT
BEGIN:VTIMEZONE
TZID:Europe/Paris
X-LIC-LOCATION:Europe/Paris
BEGIN:STANDARD
DTSTART:20221030T020000
TZOFFSETFROM:+0200
TZOFFSETTO:+0100
TZNAME:CET
END:STANDARD
END:VTIMEZONE
END:VCALENDAR