BEGIN:VCALENDAR
VERSION:2.0
PRODID:-//wp-events-plugin.com//7.2.3.1//EN
TZID:Europe/Brussels
X-WR-TIMEZONE:Europe/Brussels
BEGIN:VEVENT
UID:234@questionnement.be
DTSTART;TZID=Europe/Paris:20220511T180000
DTEND;TZID=Europe/Paris:20220511T200000
DTSTAMP:20251123T111059Z
URL:https://questionnement.be/events/les-chantiers-du-qp-intervention-de-p
 ascal-nottet-a-propos-de-lexperience-interieure-de-georges-bataille/
SUMMARY:"Les Chantiers du QP" Intervention de Pascal Nottet à propos de l'
 expérience intérieure " de Georges Bataille
DESCRIPTION:&nbsp\;\n
END:VEVENT
BEGIN:VTIMEZONE
TZID:Europe/Paris
X-LIC-LOCATION:Europe/Paris
BEGIN:DAYLIGHT
DTSTART:20220327T030000
TZOFFSETFROM:+0100
TZOFFSETTO:+0200
TZNAME:CEST
END:DAYLIGHT
END:VTIMEZONE
END:VCALENDAR