BEGIN:VCALENDAR
VERSION:2.0
PRODID:-//wp-events-plugin.com//7.2.3.1//EN
TZID:Europe/Brussels
X-WR-TIMEZONE:Europe/Brussels
BEGIN:VEVENT
UID:228@questionnement.be
DTSTART;TZID=Europe/Paris:20220329T180000
DTEND;TZID=Europe/Paris:20220329T200000
DTSTAMP:20251123T111059Z
URL:https://questionnement.be/events/les-chantiers-du-qp-quel-est-encore-a
 ujourdhui-le-sens-de-lexperience-psychanalyse-par-pascal-nottet/
SUMMARY:Les Chantiers du QP : " Quel est encore aujourd'hui le sens de l'ex
 périence "psychanalyse" ? par Pascal Nottet
DESCRIPTION:&nbsp\;\n
END:VEVENT
BEGIN:VTIMEZONE
TZID:Europe/Paris
X-LIC-LOCATION:Europe/Paris
BEGIN:DAYLIGHT
DTSTART:20220327T030000
TZOFFSETFROM:+0100
TZOFFSETTO:+0200
TZNAME:CEST
END:DAYLIGHT
END:VTIMEZONE
END:VCALENDAR