BEGIN:VCALENDAR
VERSION:2.0
PRODID:-//wp-events-plugin.com//7.2.3.1//EN
TZID:Europe/Brussels
X-WR-TIMEZONE:Europe/Brussels
BEGIN:VEVENT
UID:226@questionnement.be
DTSTART;TZID=Europe/Paris:20220221T190000
DTEND;TZID=Europe/Paris:20220221T210000
DTSTAMP:20251123T111059Z
URL:https://questionnement.be/events/les-chantiers-du-qp/
SUMMARY:Les Chantiers du QP :
DESCRIPTION:Dans la suite des 2 journées de travail "Dire en chantier" que
  nous avons organisé en novembre 2021\, et de la conférence que Pascal N
 ottet a donné le 29 janvier 2022\,   nous avons décider de poursuivre
   ensemble le travail. Nous appellerons ces moments de rencontres :  "Le
 s chantiers du QP". D'autres intervenants aux journées du QP remettrons e
 ux aussi leurs ouvrages sur le métier... et leur questions aux débats...
 ..\n\n\nLa première séance de ces "Chantiers du QP " aura lieu en févri
 er et nous imaginons actuellement un rythme d'une  rencontre sur zoom tou
 s les 2 mois.\n\nDans ce contexte\, Le lundi 21 février 2022 de 20h à 22
 h \, le Questionnement Psychanalytique vous propose de participer à la su
 ite du travail au départ du texte de  Pascal Nottet : "Quel pourrait êt
 re encore aujourd'hui\, le sens de l'expérience "psychanalyse" ?"\n\n\nPa
 scal y poursuivra l'exposé de sa réflexion  et nous pourrons en débatt
 re ensemble.(l' enregistrement de son exposé du 29/01 est disponible...no
 us contacter  via mail si cela vous intéresse)\n\nLes membres du QP et 
  les personnes inscrites aux Journées de novembre recevront le lien ZOOM 
 au plus tard la veille pour pouvoir participer à la soirée du 21 févrie
 r. Les autres personnes intéressées peuvent nous le faire savoir via le 
 mail du QP : info@questionnement.be\n\nCes "Chantiers" sont ouverts à tou
 s .\n
END:VEVENT
BEGIN:VTIMEZONE
TZID:Europe/Paris
X-LIC-LOCATION:Europe/Paris
BEGIN:STANDARD
DTSTART:20211031T020000
TZOFFSETFROM:+0200
TZOFFSETTO:+0100
TZNAME:CET
END:STANDARD
END:VTIMEZONE
END:VCALENDAR