BEGIN:VCALENDAR
VERSION:2.0
PRODID:-//wp-events-plugin.com//7.2.3.1//EN
TZID:Europe/Brussels
X-WR-TIMEZONE:Europe/Brussels
BEGIN:VEVENT
UID:192@questionnement.be
DTSTART;TZID=Europe/Paris:20190627T183000
DTEND;TZID=Europe/Paris:20190627T203000
DTSTAMP:20251123T111059Z
URL:https://questionnement.be/events/lire-en-psychanalyse-atelier-de-lectu
 re-recherche-10/
SUMMARY:Lire en psychanalyse Atelier de lecture-recherche
DESCRIPTION:Selon un axe de travail que nous avons intitulé Immanence et p
 sychanalyse\, nous avons lu deux livres de Pierre Zaoui : La traversée de
 s catastrophes et Spinoza\, la décision de soi.\n\nPour donner suite à c
 es deux lectures\, nous allons aborder cette année le livre de Gilles Del
 euze Empirisme et subjectivité\, Essai sur la nature humaine selon Hume\,
  Paris\, PUF\, 1953.\n\nCe sera l'occasion de voir comment la lecture de H
 ume par Deleuze prépare de façon très serrée l'ensemble des questionne
 ments que le profond intérêt de Deleuze pour la psychanalyse le poussera
  à lui adresser d'un bout à l'autre de son oeuvre.\n\n- Dates pour l'ate
 lier : chaque 4ème jeudi du mois - de 20h30 à 22h30 (première rencontre
  : le 27/09/18).\n- Lieu : à Parhélie\, 45 avenue Jacques Pastur - 1180 
 Uccle.\n- Personne de contact : Pascal Nottet\n\n&nbsp\;
END:VEVENT
BEGIN:VTIMEZONE
TZID:Europe/Paris
X-LIC-LOCATION:Europe/Paris
BEGIN:DAYLIGHT
DTSTART:20190331T030000
TZOFFSETFROM:+0100
TZOFFSETTO:+0200
TZNAME:CEST
END:DAYLIGHT
END:VTIMEZONE
END:VCALENDAR