BEGIN:VCALENDAR
VERSION:2.0
PRODID:-//wp-events-plugin.com//7.2.3.1//EN
TZID:Europe/Brussels
X-WR-TIMEZONE:Europe/Brussels
BEGIN:VEVENT
UID:199@questionnement.be
DTSTART;TZID=Europe/Paris:20191010T183000
DTEND;TZID=Europe/Paris:20191010T203000
DTSTAMP:20251123T111059Z
URL:https://questionnement.be/events/lire-en-psychanalyse/
SUMMARY:Lire en psychanalyse
DESCRIPTION:Les séminaires CEPSYA « Lire en Psychanalyse » 2019-2010 p
 résentés par Guy Mertens porteront sur les quatre concepts fondamentaux 
 de la psychanalyse.\n\n\n\nPour le module Lacan\, Lecture de :\n\n\n 	\n\n
  	« Les quatres concepts fondamentaux de la psychanalyse »\, livre XI\, 
 Seuil\n\n\n\n\n\n\nPour le module Freud\, lecture de : \n\n\n 	\n\n 	« L
 'inconscient »\, OC XIII\, PUF\n 	« Au delà du principe de plaisir »\,
  OC XIV\, PUF\n 	« Sur la dynamique du transfert »\, OC XI\, PUF\n 	« P
 ulsions et destins de pulsions »\, OC XIII\, PUF\n\n\n\n\n\n\nLes séance
 s du séminaires ont lieu tous les deuxième et quatrième  jeudis du moi
 s\, de 20h30 à 22H30 à partir du 10 octobre 2019 jusqu'au 25 juin 2020
  au Centre d'Action Laïque.\n\n\n\nPour toutes informations\, veuillez c
 ontacter Guy Mertens.
END:VEVENT
BEGIN:VTIMEZONE
TZID:Europe/Paris
X-LIC-LOCATION:Europe/Paris
BEGIN:DAYLIGHT
DTSTART:20190331T030000
TZOFFSETFROM:+0100
TZOFFSETTO:+0200
TZNAME:CEST
END:DAYLIGHT
END:VTIMEZONE
END:VCALENDAR