BEGIN:VCALENDAR
VERSION:2.0
PRODID:-//wp-events-plugin.com//7.2.3.1//EN
TZID:Europe/Brussels
X-WR-TIMEZONE:Europe/Brussels
BEGIN:VEVENT
UID:251@questionnement.be
DTSTART;TZID=Europe/Paris:20241116T080000
DTEND;TZID=Europe/Paris:20241116T160000
DTSTAMP:20251123T111100Z
URL:https://questionnement.be/events/marie-josee-mondzain-accueillir-venue
 s-dun-ventre-ou-dun-pays/
SUMMARY:Marie Josée Mondzain - « Accueillir. Venu(e)s d’un ventre ou d
 ’un pays »
DESCRIPTION:Journée IAB\, invitation de Marie Josée Mondzain autour de so
 n livre « Accueillir. Venu(e)s d’un ventre ou d’un pays ». Déroulem
 ent de la journée sur le site AFB (https://ishort.ink/i5o8). Au Centre d'
 Action Laïque de Bruxelles\, de 9 à 17h.
END:VEVENT
BEGIN:VTIMEZONE
TZID:Europe/Paris
X-LIC-LOCATION:Europe/Paris
BEGIN:STANDARD
DTSTART:20241027T020000
TZOFFSETFROM:+0200
TZOFFSETTO:+0100
TZNAME:CET
END:STANDARD
END:VTIMEZONE
END:VCALENDAR