BEGIN:VCALENDAR
VERSION:2.0
PRODID:-//wp-events-plugin.com//7.2.3.1//EN
TZID:Europe/Brussels
X-WR-TIMEZONE:Europe/Brussels
BEGIN:VEVENT
UID:201@questionnement.be
DTSTART;TZID=Europe/Paris:20191002T183000
DTEND;TZID=Europe/Paris:20191002T203000
DTSTAMP:20251123T111059Z
URL:https://questionnement.be/events/psychanalyse-et-philosophie-un-autre-
 commencement-pour-la-psychanalyse/
SUMMARY:Psychanalyse et philosophie : "Un Autre commencement pour la psycha
 nalyse"
DESCRIPTION:\n 	Psychanalyse et philosophie : "Un Autre commencement pour l
 a psychanalyse"\n\nSuite de la lecture commentée des Beiträge zur Philo
 sophie (vom Ereignis)\, de Heidegger\, traduits en français Apports à 
 la philosophie (de l’avenance) par F. Fédier.\n\nComment la psychanaly
 se peut trouver un autre commencement\, à partir du Réel et du sinthome.
 \n\nLe propos est de mettre en tension la question de l’être\, du dés
 être\, de l’objet a (principalement dans sa quatrième forme\, la “vo
 ix”) et de la jouissance (tout ceci en référence à Lacan).\n\nJour ho
 raire et date\n\nPremier et troisième mercredi de chaque mois à partir d
 u 2 octobre 2019 jusqu’en juin 2020 (hormis les vacances)\n\n&nbsp\;
END:VEVENT
BEGIN:VTIMEZONE
TZID:Europe/Paris
X-LIC-LOCATION:Europe/Paris
BEGIN:DAYLIGHT
DTSTART:20190331T030000
TZOFFSETFROM:+0100
TZOFFSETTO:+0200
TZNAME:CEST
END:DAYLIGHT
END:VTIMEZONE
END:VCALENDAR