BEGIN:VCALENDAR
VERSION:2.0
PRODID:-//wp-events-plugin.com//7.2.3.1//EN
TZID:Europe/Brussels
X-WR-TIMEZONE:Europe/Brussels
BEGIN:VEVENT
UID:198@questionnement.be
DTSTART;TZID=Europe/Paris:20200425T073000
DTEND;TZID=Europe/Paris:20200425T110000
DTSTAMP:20251123T111059Z
URL:https://questionnement.be/events/report-a-une-date-ulterieure-clinique
 -contemporaine-avec-les-enfants-et-les-adolescents/
SUMMARY:REPORT A UNE DATE ULTERIEURE : Clinique contemporaine avec les enfa
 nts et les adolescents
DESCRIPTION:le samedi 25 avril   De 9h30 à 13h       ( 9h30 accuei
 l)\n\n \n\n \n\nClinique contemporaine avec les enfants et adolescents.\
 n\nA l’initiative de Colette GODFRIN ( Planning Familial) et de Pascal N
 OTTET et ses collègues ( Hôpital Pédopsychiatrique)
END:VEVENT
BEGIN:VTIMEZONE
TZID:Europe/Paris
X-LIC-LOCATION:Europe/Paris
BEGIN:DAYLIGHT
DTSTART:20200329T030000
TZOFFSETFROM:+0100
TZOFFSETTO:+0200
TZNAME:CEST
END:DAYLIGHT
END:VTIMEZONE
END:VCALENDAR