BEGIN:VCALENDAR
VERSION:2.0
PRODID:-//wp-events-plugin.com//7.2.3.1//EN
TZID:Europe/Brussels
X-WR-TIMEZONE:Europe/Brussels
BEGIN:VEVENT
UID:248@questionnement.be
DTSTART;TZID=Europe/Paris;VALUE=DATE:20240531
DTEND;TZID=Europe/Paris;VALUE=DATE:20240603
DTSTAMP:20251123T111100Z
URL:https://questionnement.be/events/seminaire-i-aep-place-de-linconscient
 /
SUMMARY:Séminaire I-AEP - Place de l'inconscient
DESCRIPTION:
END:VEVENT
BEGIN:VTIMEZONE
TZID:Europe/Paris
X-LIC-LOCATION:Europe/Paris
BEGIN:DAYLIGHT
DTSTART:20240331T030000
TZOFFSETFROM:+0100
TZOFFSETTO:+0200
TZNAME:CEST
END:DAYLIGHT
END:VTIMEZONE
END:VCALENDAR