BEGIN:VCALENDAR
VERSION:2.0
PRODID:-//wp-events-plugin.com//7.2.3.1//EN
TZID:Europe/Brussels
X-WR-TIMEZONE:Europe/Brussels
BEGIN:VEVENT
UID:257@questionnement.be
DTSTART;TZID=Europe/Paris:20250402T180000
DTEND;TZID=Europe/Paris:20250402T203000
DTSTAMP:20251123T111100Z
URL:https://questionnement.be/events/sylvain-gross-la-pscyhanalyse-reinven
 tee-par-le-genre-partie-2/
SUMMARY:Sylvain Gross « la Pscyhanalyse réinventée par le Genre »\, par
 tie 2
DESCRIPTION:
END:VEVENT
BEGIN:VTIMEZONE
TZID:Europe/Paris
X-LIC-LOCATION:Europe/Paris
BEGIN:DAYLIGHT
DTSTART:20250330T030000
TZOFFSETFROM:+0100
TZOFFSETTO:+0200
TZNAME:CEST
END:DAYLIGHT
END:VTIMEZONE
END:VCALENDAR