BEGIN:VCALENDAR
VERSION:2.0
PRODID:-//wp-events-plugin.com//7.2.3.1//EN
TZID:Europe/Brussels
X-WR-TIMEZONE:Europe/Brussels
BEGIN:VEVENT
UID:232@questionnement.be
DTSTART;TZID=Europe/Paris:20220326T130000
DTEND;TZID=Europe/Paris:20220326T170000
DTSTAMP:20251123T111059Z
URL:https://questionnement.be/events/une-apres-midi-de-travail-autour-du-l
 ivre-de-patrick-de-neuter-les-hommes-leurs-amours-et-leurs-sexualites/
SUMMARY:une après-midi  de travail autour du livre de Patrick De Neuter :
  "Les hommes\, leurs amours et leurs sexualités"
DESCRIPTION:Nous coorganisons avec d'autres associations de psychanalyse un
 e après-midi  de travail autour du livre de Patrick De Neuter : "Les hom
 mes\, leurs amours et leurs sexualités"\nElle aura lieu le samedi 26
  mars sur ZOOM de 14hà 18H\nVoici le lien pour vous inscrire à cet
 te journée :\n\nhttps://forms.gle/DfP6TD6b7DdkpHkDA\n\net le lien pour la
  présentation du livre :\n\nhttps://www.editions-eres.com/ouvrage/4796/le
 s-hommes-leurs-amours-leurs-sexualites\n
END:VEVENT
BEGIN:VTIMEZONE
TZID:Europe/Paris
X-LIC-LOCATION:Europe/Paris
BEGIN:STANDARD
DTSTART:20211031T020000
TZOFFSETFROM:+0200
TZOFFSETTO:+0100
TZNAME:CET
END:STANDARD
END:VTIMEZONE
END:VCALENDAR