BEGIN:VCALENDAR
VERSION:2.0
PRODID:-//wp-events-plugin.com//7.2.3.1//EN
TZID:Europe/Brussels
X-WR-TIMEZONE:Europe/Brussels
BEGIN:VEVENT
UID:244@questionnement.be
DTSTART;TZID=Europe/Paris:20230930T083000
DTEND;TZID=Europe/Paris:20230930T160000
DTSTAMP:20251123T111100Z
URL:https://questionnement.be/events/vers-une-psychanalyse-emancipee/
SUMMARY:Vers une psychanalyse émancipée
DESCRIPTION:Le Questionnement psychanalytique et Espace analytique de Belgi
 que\, avec le soutien et la collaboration des Forums du Champ lacanien de 
 Belgique\, de l’École Belge de psychanalyse et de la Société belge de
  psychanalyse\, sont heureux de vous inviter à une Journée d’étude in
 ter-associative autour du livre éponyme de Laurie Laufer (la Découverte\
 , 2022)\n(Cliquez pour accéder au formulaire d'inscription)\n(Cliquez pou
 r accéder au formulaire d'inscription)
END:VEVENT
BEGIN:VTIMEZONE
TZID:Europe/Paris
X-LIC-LOCATION:Europe/Paris
BEGIN:DAYLIGHT
DTSTART:20230326T030000
TZOFFSETFROM:+0100
TZOFFSETTO:+0200
TZNAME:CEST
END:DAYLIGHT
END:VTIMEZONE
END:VCALENDAR